BEGIN:VCALENDAR
VERSION:2.0
PRODID:icalendar-ruby
CALSCALE:GREGORIAN
METHOD:PUBLISH
BEGIN:VEVENT
DTSTAMP:20260423T160550Z
UID:5-1026837@fbcsv.org
DTSTART:20250302T183000Z
DTEND:20250302T193000Z
CLASS:PUBLIC
CREATED:20260423T070114
DESCRIPTION:Worship Service
LAST-MODIFIED:20260423T070114
LOCATION:8758 Troy St.\, Spring Valley\, CA
SUMMARY:Worship Service
URL;VALUE=URI:https://www.fbcsv.org/events/worship-service--5/2025-03-02
END:VEVENT
END:VCALENDAR
