BEGIN:VCALENDAR
VERSION:2.0
PRODID:icalendar-ruby
CALSCALE:GREGORIAN
METHOD:PUBLISH
BEGIN:VEVENT
DTSTAMP:20260423T125343Z
UID:5-1026229@fbcsv.org
DTSTART:20250216T183000Z
DTEND:20250216T193000Z
CLASS:PUBLIC
CREATED:20260423T040635
DESCRIPTION:Worship Service
LAST-MODIFIED:20260423T040635
LOCATION:8758 Troy St.\, Spring Valley\, CA
SUMMARY:Worship Service
URL;VALUE=URI:https://www.fbcsv.org/events/worship-service--5/2025-02-16
END:VEVENT
END:VCALENDAR
