BEGIN:VCALENDAR
VERSION:2.0
PRODID:icalendar-ruby
CALSCALE:GREGORIAN
METHOD:PUBLISH
BEGIN:VEVENT
DTSTAMP:20260423T060002Z
UID:5-1025623@fbcsv.org
DTSTART:20250119T183000Z
DTEND:20250119T193000Z
CLASS:PUBLIC
CREATED:20260422T183711
DESCRIPTION:Worship Service
LAST-MODIFIED:20260422T183711
LOCATION:8758 Troy St.\, Spring Valley\, CA
SUMMARY:Worship Service
URL;VALUE=URI:https://www.fbcsv.org/events/worship-service--5/2025-01-19
END:VEVENT
END:VCALENDAR
