BEGIN:VCALENDAR
VERSION:2.0
PRODID:icalendar-ruby
CALSCALE:GREGORIAN
METHOD:PUBLISH
BEGIN:VEVENT
DTSTAMP:20260422T232545Z
UID:5-1025017@fbcsv.org
DTSTART:20241222T183000Z
DTEND:20241222T193000Z
CLASS:PUBLIC
CREATED:20260422T154455
DESCRIPTION:Worship Service
LAST-MODIFIED:20260422T154455
LOCATION:8758 Troy St.\, Spring Valley\, CA
SUMMARY:Worship Service
URL;VALUE=URI:https://www.fbcsv.org/events/worship-service--5/2024-12-22
END:VEVENT
END:VCALENDAR
