BEGIN:VCALENDAR
VERSION:2.0
PRODID:icalendar-ruby
CALSCALE:GREGORIAN
METHOD:PUBLISH
BEGIN:VEVENT
DTSTAMP:20260422T214011Z
UID:5-1024414@fbcsv.org
DTSTART:20241215T183000Z
DTEND:20241215T193000Z
CLASS:PUBLIC
CREATED:20260422T125110
DESCRIPTION:Worship Service
LAST-MODIFIED:20260422T125110
LOCATION:8758 Troy St.\, Spring Valley\, CA
SUMMARY:Worship Service
URL;VALUE=URI:https://www.fbcsv.org/events/worship-service--5/2024-12-15
END:VEVENT
END:VCALENDAR
