BEGIN:VCALENDAR
VERSION:2.0
PRODID:icalendar-ruby
CALSCALE:GREGORIAN
METHOD:PUBLISH
BEGIN:VEVENT
DTSTAMP:20260422T153202Z
UID:5-1023206@fbcsv.org
DTSTART:20241117T183000Z
DTEND:20241117T193000Z
CLASS:PUBLIC
CREATED:20260422T070057
DESCRIPTION:Worship Service
LAST-MODIFIED:20260422T070057
LOCATION:8758 Troy St.\, Spring Valley\, CA
SUMMARY:Worship Service
URL;VALUE=URI:https://www.fbcsv.org/events/worship-service--5/2024-11-17
END:VEVENT
END:VCALENDAR
