BEGIN:VCALENDAR
VERSION:2.0
PRODID:icalendar-ruby
CALSCALE:GREGORIAN
METHOD:PUBLISH
BEGIN:VEVENT
DTSTAMP:20260422T134831Z
UID:5-1022603@fbcsv.org
DTSTART:20241110T183000Z
DTEND:20241110T193000Z
CLASS:PUBLIC
CREATED:20260422T040612
DESCRIPTION:Worship Service
LAST-MODIFIED:20260422T040612
LOCATION:8758 Troy St.\, Spring Valley\, CA
SUMMARY:Worship Service
URL;VALUE=URI:https://www.fbcsv.org/events/worship-service--5/2024-11-10
END:VEVENT
END:VCALENDAR
