BEGIN:VCALENDAR
VERSION:2.0
PRODID:icalendar-ruby
CALSCALE:GREGORIAN
METHOD:PUBLISH
BEGIN:VEVENT
DTSTAMP:20260422T070624Z
UID:5-1021997@fbcsv.org
DTSTART:20241013T173000Z
DTEND:20241013T183000Z
CLASS:PUBLIC
CREATED:20260421T170641
DESCRIPTION:Worship Service
LAST-MODIFIED:20260421T170641
LOCATION:8758 Troy St.\, Spring Valley\, CA
SUMMARY:Worship Service
URL;VALUE=URI:https://www.fbcsv.org/events/worship-service--5/2024-10-13
END:VEVENT
END:VCALENDAR
