BEGIN:VCALENDAR
VERSION:2.0
PRODID:icalendar-ruby
CALSCALE:GREGORIAN
METHOD:PUBLISH
BEGIN:VEVENT
DTSTAMP:20260421T204209Z
UID:5-1020786@fbcsv.org
DTSTART:20240825T173000Z
DTEND:20240825T183000Z
CLASS:PUBLIC
CREATED:20260421T115102
DESCRIPTION:Worship Service
LAST-MODIFIED:20260421T115102
LOCATION:8758 Troy St.\, Spring Valley\, CA
SUMMARY:Worship Service
URL;VALUE=URI:https://www.fbcsv.org/events/worship-service--5/2024-08-25
END:VEVENT
END:VCALENDAR
