BEGIN:VCALENDAR
VERSION:2.0
PRODID:icalendar-ruby
CALSCALE:GREGORIAN
METHOD:PUBLISH
BEGIN:VEVENT
DTSTAMP:20260420T221952Z
UID:5-1017762@fbcsv.org
DTSTART:20240519T173000Z
DTEND:20240519T183000Z
CLASS:PUBLIC
CREATED:20260420T141825
DESCRIPTION:Worship Service
LAST-MODIFIED:20260420T141825
LOCATION:8758 Troy St.\, Spring Valley\, CA
SUMMARY:Worship Service
URL;VALUE=URI:https://www.fbcsv.org/events/worship-service--5/2024-05-19
END:VEVENT
END:VCALENDAR
