BEGIN:VCALENDAR
VERSION:2.0
PRODID:icalendar-ruby
CALSCALE:GREGORIAN
METHOD:PUBLISH
BEGIN:VEVENT
DTSTAMP:20260420T172440Z
UID:5-1016555@fbcsv.org
DTSTART:20240428T173000Z
DTEND:20240428T183000Z
CLASS:PUBLIC
CREATED:20260420T090802
DESCRIPTION:Worship Service
LAST-MODIFIED:20260420T090802
LOCATION:8758 Troy St.\, Spring Valley\, CA
SUMMARY:Worship Service
URL;VALUE=URI:https://www.fbcsv.org/events/worship-service--5/2024-04-28
END:VEVENT
END:VCALENDAR
