BEGIN:VCALENDAR
VERSION:2.0
PRODID:icalendar-ruby
CALSCALE:GREGORIAN
METHOD:PUBLISH
BEGIN:VEVENT
DTSTAMP:20260420T110425Z
UID:5-1015344@fbcsv.org
DTSTART:20240331T173000Z
DTEND:20240331T183000Z
CLASS:PUBLIC
CREATED:20260420T035825
DESCRIPTION:Worship Service
LAST-MODIFIED:20260420T035825
LOCATION:8758 Troy St.\, Spring Valley\, CA
SUMMARY:Worship Service
URL;VALUE=URI:https://www.fbcsv.org/events/worship-service--5/2024-03-31
END:VEVENT
END:VCALENDAR
