BEGIN:VCALENDAR
VERSION:2.0
PRODID:icalendar-ruby
CALSCALE:GREGORIAN
METHOD:PUBLISH
BEGIN:VEVENT
DTSTAMP:20260420T061536Z
UID:5-1014739@fbcsv.org
DTSTART:20240310T173000Z
DTEND:20240310T183000Z
CLASS:PUBLIC
CREATED:20260419T224905
DESCRIPTION:Worship Service
LAST-MODIFIED:20260419T224905
LOCATION:8758 Troy St.\, Spring Valley\, CA
SUMMARY:Worship Service
URL;VALUE=URI:https://www.fbcsv.org/events/worship-service--5/2024-03-10
END:VEVENT
END:VCALENDAR
