BEGIN:VCALENDAR
VERSION:2.0
PRODID:icalendar-ruby
CALSCALE:GREGORIAN
METHOD:PUBLISH
BEGIN:VEVENT
DTSTAMP:20260420T044817Z
UID:5-1014136@fbcsv.org
DTSTART:20240303T183000Z
DTEND:20240303T193000Z
CLASS:PUBLIC
CREATED:20260419T191209
DESCRIPTION:Worship Service
LAST-MODIFIED:20260419T191209
LOCATION:8758 Troy St.\, Spring Valley\, CA
SUMMARY:Worship Service
URL;VALUE=URI:https://www.fbcsv.org/events/worship-service--5/2024-03-03
END:VEVENT
END:VCALENDAR
