BEGIN:VCALENDAR
VERSION:2.0
PRODID:icalendar-ruby
CALSCALE:GREGORIAN
METHOD:PUBLISH
BEGIN:VEVENT
DTSTAMP:20260420T014755Z
UID:5-1013532@fbcsv.org
DTSTART:20240218T183000Z
DTEND:20240218T193000Z
CLASS:PUBLIC
CREATED:20260419T153222
DESCRIPTION:Worship Service
LAST-MODIFIED:20260419T153222
LOCATION:8758 Troy St.\, Spring Valley\, CA
SUMMARY:Worship Service
URL;VALUE=URI:https://www.fbcsv.org/events/worship-service--5/2024-02-18
END:VEVENT
END:VCALENDAR
