BEGIN:VCALENDAR
VERSION:2.0
PRODID:icalendar-ruby
CALSCALE:GREGORIAN
METHOD:PUBLISH
BEGIN:VEVENT
DTSTAMP:20260419T160102Z
UID:5-1012323@fbcsv.org
DTSTART:20240107T183000Z
DTEND:20240107T193000Z
CLASS:PUBLIC
CREATED:20260419T080736
DESCRIPTION:Worship Service
LAST-MODIFIED:20260419T080736
LOCATION:8758 Troy St.\, Spring Valley\, CA
SUMMARY:Worship Service
URL;VALUE=URI:https://www.fbcsv.org/events/worship-service--5/2024-01-07
END:VEVENT
END:VCALENDAR
